BEGIN:VCALENDAR
VERSION:2.0
PRODID:-//Swiss Oracle User Community - SwissOUC - ECPv6.5.2//NONSGML v1.0//EN
CALSCALE:GREGORIAN
METHOD:PUBLISH
X-ORIGINAL-URL:https://swissouc.ch
X-WR-CALDESC:Events for Swiss Oracle User Community - SwissOUC
REFRESH-INTERVAL;VALUE=DURATION:PT1H
X-Robots-Tag:noindex
X-PUBLISHED-TTL:PT1H
BEGIN:VTIMEZONE
TZID:Europe/Zurich
BEGIN:DAYLIGHT
TZOFFSETFROM:+0100
TZOFFSETTO:+0200
TZNAME:CEST
DTSTART:20210328T010000
END:DAYLIGHT
BEGIN:STANDARD
TZOFFSETFROM:+0200
TZOFFSETTO:+0100
TZNAME:CET
DTSTART:20211031T010000
END:STANDARD
BEGIN:DAYLIGHT
TZOFFSETFROM:+0100
TZOFFSETTO:+0200
TZNAME:CEST
DTSTART:20220327T010000
END:DAYLIGHT
BEGIN:STANDARD
TZOFFSETFROM:+0200
TZOFFSETTO:+0100
TZNAME:CET
DTSTART:20221030T010000
END:STANDARD
BEGIN:DAYLIGHT
TZOFFSETFROM:+0100
TZOFFSETTO:+0200
TZNAME:CEST
DTSTART:20230326T010000
END:DAYLIGHT
BEGIN:STANDARD
TZOFFSETFROM:+0200
TZOFFSETTO:+0100
TZNAME:CET
DTSTART:20231029T010000
END:STANDARD
BEGIN:DAYLIGHT
TZOFFSETFROM:+0100
TZOFFSETTO:+0200
TZNAME:CEST
DTSTART:20240331T010000
END:DAYLIGHT
BEGIN:STANDARD
TZOFFSETFROM:+0200
TZOFFSETTO:+0100
TZNAME:CET
DTSTART:20241027T010000
END:STANDARD
END:VTIMEZONE
BEGIN:VEVENT
DTSTART;VALUE=DATE:20241016
DTEND;VALUE=DATE:20241020
DTSTAMP:20260426T002319
CREATED:20240718T142156Z
LAST-MODIFIED:20240718T142156Z
UID:10000088-1729036800-1729382399@swissouc.ch
SUMMARY:HrOUG 2024 Annual Conference
DESCRIPTION:The annual HrOUG conference will be held on St. Andrew Island in Rovinj\, Island Hotel Istra. \nA beautiful location that will delight you with its beauty.
URL:https://swissouc.ch/event/hroug-2024-annual-conference/
LOCATION:Sveti Andrija\, Croatia\, Sveti Andrija\, Rovinj\, Croatia (Local Name: Hrvatska)
END:VEVENT
BEGIN:VEVENT
DTSTART;VALUE=DATE:20231018
DTEND;VALUE=DATE:20231021
DTSTAMP:20260426T002319
CREATED:20230622T125731Z
LAST-MODIFIED:20230622T125731Z
UID:10000080-1697587200-1697846399@swissouc.ch
SUMMARY:HrOUG 2023 Annual Conference
DESCRIPTION:The annual HrOUG conference will be held on St. Andrew Island in Rovinj\, Island Hotel Istra. \nA beautiful location that will delight you with its beauty.
URL:https://swissouc.ch/event/hroug-2023-annual-conference/
LOCATION:Sveti Andrija\, Croatia\, Sveti Andrija\, Rovinj\, Croatia (Local Name: Hrvatska)
END:VEVENT
BEGIN:VEVENT
DTSTART;VALUE=DATE:20220517
DTEND;VALUE=DATE:20220520
DTSTAMP:20260426T002319
CREATED:20220203T121922Z
LAST-MODIFIED:20220203T121922Z
UID:10000067-1652745600-1653004799@swissouc.ch
SUMMARY:HrOUG Spring 2022
DESCRIPTION:
URL:https://swissouc.ch/event/hroug-spring-2022/
END:VEVENT
BEGIN:VEVENT
DTSTART;VALUE=DATE:20211012
DTEND;VALUE=DATE:20211017
DTSTAMP:20260426T002319
CREATED:20210629T101033Z
LAST-MODIFIED:20210629T101033Z
UID:10000046-1633996800-1634428799@swissouc.ch
SUMMARY:HrOUG 2021
DESCRIPTION:
URL:https://swissouc.ch/event/hroug-2021/
ATTACH;FMTTYPE=image/jpeg:https://swissouc.ch/wp-content/uploads/2021/06/HrOUG-2021.jpg
END:VEVENT
END:VCALENDAR