BEGIN:VCALENDAR
VERSION:2.0
PRODID:-//Swiss Oracle User Community - SwissOUC - ECPv6.5.2//NONSGML v1.0//EN
CALSCALE:GREGORIAN
METHOD:PUBLISH
X-ORIGINAL-URL:https://swissouc.ch
X-WR-CALDESC:Events for Swiss Oracle User Community - SwissOUC
REFRESH-INTERVAL;VALUE=DURATION:PT1H
X-Robots-Tag:noindex
X-PUBLISHED-TTL:PT1H
BEGIN:VTIMEZONE
TZID:Europe/Zurich
BEGIN:DAYLIGHT
TZOFFSETFROM:+0100
TZOFFSETTO:+0200
TZNAME:CEST
DTSTART:20230326T010000
END:DAYLIGHT
BEGIN:STANDARD
TZOFFSETFROM:+0200
TZOFFSETTO:+0100
TZNAME:CET
DTSTART:20231029T010000
END:STANDARD
BEGIN:DAYLIGHT
TZOFFSETFROM:+0100
TZOFFSETTO:+0200
TZNAME:CEST
DTSTART:20240331T010000
END:DAYLIGHT
BEGIN:STANDARD
TZOFFSETFROM:+0200
TZOFFSETTO:+0100
TZNAME:CET
DTSTART:20241027T010000
END:STANDARD
END:VTIMEZONE
BEGIN:VEVENT
DTSTART;VALUE=DATE:20241119
DTEND;VALUE=DATE:20241123
DTSTAMP:20260426T013735
CREATED:20240718T142301Z
LAST-MODIFIED:20240718T142301Z
UID:10000089-1731974400-1732319999@swissouc.ch
SUMMARY:DOAG 2024 Conference + Exhibition
DESCRIPTION:The DOAG 2024 Conference + Exhibition will take place from November 19 to 22 at the NCC in Nuremberg. #DOAG2024 \nThe Call for Papers has ended. The conference program will be published at the start of August. \nGet your ticket at the early bird price until September 29!
URL:https://swissouc.ch/event/doag-2024-conference-exhibition/
LOCATION:Nürnberg Convention Center\, Nürnberg\, Messezentrum 2\, Nürnberg\, 90471\, Germany
END:VEVENT
BEGIN:VEVENT
DTSTART;VALUE=DATE:20231121
DTEND;VALUE=DATE:20231125
DTSTAMP:20260426T013735
CREATED:20230622T124948Z
LAST-MODIFIED:20230622T124948Z
UID:10000079-1700524800-1700870399@swissouc.ch
SUMMARY:DOAG 2023 Conference + Exhibition
DESCRIPTION:The DOAG 2023 Conference + Exhibition will take place from November 21 to 24 at the NCC in Nuremberg. #DOAG2023 \nThe Call for Papers has ended. The conference program will be published at the start of August. \nGet your ticket at the early bird price until September 29!
URL:https://swissouc.ch/event/doag-2023-conference-exhibition/
LOCATION:Nürnberg Convention Center\, Nürnberg\, Messezentrum 2\, Nürnberg\, 90471\, Germany
END:VEVENT
END:VCALENDAR